BEGIN:VCALENDAR
VERSION:2.0
PRODID:-//Open People Network - ECPv6.8.2//NONSGML v1.0//EN
CALSCALE:GREGORIAN
METHOD:PUBLISH
X-WR-CALNAME:Open People Network
X-ORIGINAL-URL:https://openpeoplenetwork.com
X-WR-CALDESC:Events for Open People Network
REFRESH-INTERVAL;VALUE=DURATION:PT1H
X-Robots-Tag:noindex
X-PUBLISHED-TTL:PT1H
BEGIN:VTIMEZONE
TZID:America/Toronto
BEGIN:DAYLIGHT
TZOFFSETFROM:-0500
TZOFFSETTO:-0400
TZNAME:EDT
DTSTART:20200308T070000
END:DAYLIGHT
BEGIN:STANDARD
TZOFFSETFROM:-0400
TZOFFSETTO:-0500
TZNAME:EST
DTSTART:20201101T060000
END:STANDARD
END:VTIMEZONE
BEGIN:VEVENT
DTSTART;TZID=America/Toronto:20200601T170000
DTEND;TZID=America/Toronto:20200601T174500
DTSTAMP:20260420T072958
CREATED:20200512T181908Z
LAST-MODIFIED:20231017T141234Z
UID:9019-1591030800-1591033500@openpeoplenetwork.com
SUMMARY:Founders Funding Couch June 1
DESCRIPTION:#FoundersFundingCouch\nJune 01\, 2020 2:00pm\nFree Online Event\nRegister NowJoin OPN (Open People Network) for our first Live at the #FoundersFundingCouch online chat on June 01 from 5:00pm to 5:45pm\, where we will be speaking with Angels Investors and startups around funding and what options we have in today’s environment. Looking forward to continuing to support the Startup Ecosystem!\nThe Agenda\n05:00pm\nOpening Introductions\, Jeffery Potvin \n05:05pmPanel05:22pmATTRACTING MEDIA 10105:45pm\nClosing Remarks\, Jeffery Potvinn \nKeynote\, Cherry Rose Tan\nFounder & CEO at For Founders by Founders \nI lead For Founders by Founders\, the mental health movement for the tech industry. Founders and investors pledge their mental health stories as survivors or allies. Since its inception in 2018\, there are over 60 champions across North America. Once an award-winning educator\, I have taught Canada’s billionaire families. \nWith three certifications in Special Education and two certifications in Leadership Coaching\, I have guided hundreds of individuals through the trenches of mental health. With my superpower of deep work\, I help world-class founders turn their pain into power. The world needs leaders who truly know themselves AND be themselves. \nWith a decade in psychology\, I am a mental health authority in the tech space\, speaking regularly at conferences. For its inaugural year in Canada\, I was the MC for Collision’s Startup University\, North America’s largest tech conference with 27\,000 attendees. My work has been featured in Forbes\, Inc.\, The Globe and Mail\, and more. \nPanel\nATTRACTING MEDIA 101\nJeffery PotvinFounder/GP Supporters Fund OPNLearn MoreJessica MoranPrincipal & Founder at JESSCO-VolunteerLearn MoreJodi EchakowitzCEO and founder of Boulevard Public RelationsLearn MoreRick SpenceSpeaker/Author/Consultant. Specialist in EntrepreneurshipLearn MoreWendy BairosDiamond Marketing Group Group Head\, Public RelationsLearn MoreApplications to pitch for upcoming shows are now open!\nApply NowRegister NowLearn MoreJune 1Live at the FounderFundingCouch0000Days00Hrs00Min00SecRegister Now
URL:https://openpeoplenetwork.com/event/founders-funding-couch-june-1/
LOCATION:online
END:VEVENT
BEGIN:VEVENT
DTSTART;TZID=America/Toronto:20200604T080000
DTEND;TZID=America/Toronto:20200604T170000
DTSTAMP:20260420T072958
CREATED:20200521T161808Z
LAST-MODIFIED:20231017T141235Z
UID:9050-1591257600-1591290000@openpeoplenetwork.com
SUMMARY:Supporters Funde2e June 04
DESCRIPTION:#SupportersFunde2e\nJune 04\, 2020 2:00pm\nFree Online Event\nRegister Nowapply to participateGet involved and give back to entrepreneurs in the OPN Community. Whether you’re an entrepreneur\, Investor or business leader\, pay it forward and support the startup community during these challenging times at #SupportersFunde2e.\nWhat to expect – Startups will each have 2 minutes to tell you about their business and what they need help with. The audience\, will have a chance to meet all presenters and offer help where they can.\nIf you have a startup\, do you have 2 – 3 things you currently need help with? Are you looking for a CTO\, Manufacturer\, designer\, other startups that you can partner with? Let us know how the community can help you!\nApplications to pitch for upcoming shows are now open!\nApply to participateRegister NowLearn MoreSponsorsJune 04#SupportersFunde2e0000Days00Hrs00Min00SecRegister Now
URL:https://openpeoplenetwork.com/event/supporters-funde2e-june-04/
LOCATION:online
END:VEVENT
BEGIN:VEVENT
DTSTART;TZID=America/Toronto:20200604T080000
DTEND;TZID=America/Toronto:20200604T170000
DTSTAMP:20260420T072958
CREATED:20200604T151153Z
LAST-MODIFIED:20231017T141239Z
UID:9171-1591257600-1591290000@openpeoplenetwork.com
SUMMARY:Founders Funding Couch Jul 6
DESCRIPTION:#FoundersFundingCouch\nJul 06\, 2020 2:00pm\nFree Online Event\nRegister NowJoin OPN (Open People Network) for our first Live at the #FoundersFundingCouch online chat on Jul 06 from 2:00pm\, where we will be speaking with Angels Investors and startups around funding and what options we have in today’s environment. Looking forward to continuing to support the Startup Ecosystem!\nHow is technology enhancing sports and their players\nModerated by\, Jeffery Potvin\, Founder/GP Supporters Fund\, OPN\nJeffery Potvin\nFounder/GP Supporters Fund OPN \nLearn MoreReina Iizuka\nFirst & Only female to play University men’s tackle Football \nLearn MoreCosta KladianosSenior Sports Technology LeaderLearn MoreKris McCarthy\nCo-Founder & COO FanSaves \nLearn MoreCatherine Chan\nCEO FitIn \nLearn MoreTomash DevenishekFounder & CEO Rush SportsLearn MoreApplications to pitch for upcoming shows are now open!\nApply NowRegister NowLearn MoreJul 06Live at the FounderFundingCouch0000Days00Hrs00Min00SecRegister Now
URL:https://openpeoplenetwork.com/event/founders-funding-couch-jul-6/
LOCATION:online
END:VEVENT
END:VCALENDAR