BEGIN:VCALENDAR
VERSION:2.0
PRODID:-//Open People Network - ECPv6.8.2//NONSGML v1.0//EN
CALSCALE:GREGORIAN
METHOD:PUBLISH
X-WR-CALNAME:Open People Network
X-ORIGINAL-URL:https://openpeoplenetwork.com
X-WR-CALDESC:Events for Open People Network
REFRESH-INTERVAL;VALUE=DURATION:PT1H
X-Robots-Tag:noindex
X-PUBLISHED-TTL:PT1H
BEGIN:VTIMEZONE
TZID:America/Toronto
BEGIN:DAYLIGHT
TZOFFSETFROM:-0500
TZOFFSETTO:-0400
TZNAME:EDT
DTSTART:20200308T070000
END:DAYLIGHT
BEGIN:STANDARD
TZOFFSETFROM:-0400
TZOFFSETTO:-0500
TZNAME:EST
DTSTART:20201101T060000
END:STANDARD
END:VTIMEZONE
BEGIN:VEVENT
DTSTART;TZID=America/Toronto:20200420T080000
DTEND;TZID=America/Toronto:20200420T170000
DTSTAMP:20260421T161153
CREATED:20200420T173054Z
LAST-MODIFIED:20231017T142300Z
UID:8849-1587369600-1587402000@openpeoplenetwork.com
SUMMARY:Founders Funding Couch May 4
DESCRIPTION:#FoundersFundingCouch\nMay 04\, 2020 10:00am\nFree Online Event\nRegister NowJoin OPN (Open People Network) for our first Live at the #FoundersFundingCouch online chat on May 4th from 10am to 11am\, where we will be speaking with Angels Investors and startups around funding and what options we have in today’s environment. Looking forward to continuing to support the Startup Ecosystem!\nThe Agenda\n10:00amOpening Introductions\, Jeffery Potvin10:05amKeynote\, Sofiane Belgadi10:22amCOVID-19 & Government Funding10:55amClosing Remarks\, Jeffery PotvinnKeynote\, Sofiane Belgadi\nFounder of Lozard Group Accelerator / Partner in 2 VC Funds \nBeyond your qualities\, in business\, you are who you know. \nSofiane is a serial entrepreneur. He managed 3 fintechs and was a partner in an investment bank and partner in 2 VC funds. He managed 2 exits and is also a business angel in the tech sectors with investments made in different countries Sofiane is a mentor in several incubators\, Iboost (Ryerson)\, Mentor in BMZ (Joint venture between Ryerson and St Michael Hospital)\, Advisor in Holt Accelerator (Fintech accelerator in Montreal)\, Menor in StartGBC (Geroge Brown) He raised during his career nearly $ 200 million Sofiane has the experience of creating and developing entrepreneurial projects with 0 budget until the realization of several millions of revenue and is also a TEDx Speaker \n \nPanel\nCOVID-19 & Government Funding\nJeffery PotvinFounder/GP Supporters Fund OPNLearn MoreMichael McCallen\nCheetah Networks CEO \nLearn MoreTrung Pham\nFounder at AXIS \nLearn MoreRyan Oneil Knight \nAmplifying social enterprises with coaching and access to funds \nLearn MoreApplications to pitch for upcoming shows are now open!\nApply NowRegister NowLearn MoreMay 04Live at the FounderFundingCouch0000Days00Hrs00Min00SecRegister Now
URL:https://openpeoplenetwork.com/event/founders-funding-couch-may-4/
LOCATION:online
END:VEVENT
END:VCALENDAR