BEGIN:VCALENDAR
VERSION:2.0
PRODID:-//Open People Network - ECPv6.8.2//NONSGML v1.0//EN
CALSCALE:GREGORIAN
METHOD:PUBLISH
X-WR-CALNAME:Open People Network
X-ORIGINAL-URL:https://openpeoplenetwork.com
X-WR-CALDESC:Events for Open People Network
REFRESH-INTERVAL;VALUE=DURATION:PT1H
X-Robots-Tag:noindex
X-PUBLISHED-TTL:PT1H
BEGIN:VTIMEZONE
TZID:America/Toronto
BEGIN:DAYLIGHT
TZOFFSETFROM:-0500
TZOFFSETTO:-0400
TZNAME:EDT
DTSTART:20200308T070000
END:DAYLIGHT
BEGIN:STANDARD
TZOFFSETFROM:-0400
TZOFFSETTO:-0500
TZNAME:EST
DTSTART:20201101T060000
END:STANDARD
TZID:Africa/Abidjan
BEGIN:STANDARD
TZOFFSETFROM:+0000
TZOFFSETTO:+0000
TZNAME:GMT
DTSTART:20200101T000000
END:STANDARD
END:VTIMEZONE
BEGIN:VEVENT
DTSTART;TZID=America/Toronto:20200320T080000
DTEND;TZID=America/Toronto:20200320T170000
DTSTAMP:20260424T115452
CREATED:20200320T152040Z
LAST-MODIFIED:20231017T140911Z
UID:8551-1584691200-1584723600@openpeoplenetwork.com
SUMMARY:Founders Funding Couch Mar 30
DESCRIPTION:#FoundersFundingCouch\nMarch 30\, 2020 10:00am\nFree Online Event\nRegister NowJoin OPN (Open People Network) for our first Live at the #FoundersFundingCouch online chat on March 30th from 10am to 11am\, where we will be speaking with Angels Investors and startups around funding and what options we have in today’s environment. Looking forward to continuing to support the Startup Ecosystem!\nThe Agenda\n10:00amOpening Introductions\, Jeffery Potvin10:05amKeynote\, Anastasia Green10:22amPanel\, Fears and Challenges10:55amClosing Remarks\, Jeffery PotvinnKeynote\, Anastasia Green\nVenture Capital\, USA \nAnastasia Green is a Partner at Burgundy Capital – a boutique investment advisory firm. She is also an investment marketing executive\, host and startup advisor at Koalition.co. Previously\, she has been the CEO of multiple startups across SaaS\, HR-tech\, consumer & gaming industries. She is an international speaker and a mentor at 500startups. \nPanel\nJeffery Potvin\nModerator \nLearn MoreAnastasia GreenVC\, Marketing Executive\, Mentor @ 500startups\, Tech EntrepreneurLearn MoreAngelo Del Duca\nAngel Investor\, York Angel Investors \nLearn MoreJeff Champagne\nAngel Investor\, Sprak Angels \nLearn MoreThe Show\nApplications to pitch for upcoming shows are now open!\nApply NowRegister NowLearn MoreMarch 30Live at the FounderFundingCouch0000Days00Hrs00Min00SecRegister Now
URL:https://openpeoplenetwork.com/event/founders-funding-couch/
LOCATION:online
END:VEVENT
BEGIN:VEVENT
DTSTART;TZID=Africa/Abidjan:20200320T080000
DTEND;TZID=Africa/Abidjan:20200320T170000
DTSTAMP:20260424T115453
CREATED:20200320T181237Z
LAST-MODIFIED:20231017T140912Z
UID:8568-1584691200-1584723600@openpeoplenetwork.com
SUMMARY:Founders Funding Couch Mar 31
DESCRIPTION:#FoundersFundingCouch\nMarch 31\, 2020 10:00am\nFree Online Event\nRegister NowLive at the #FoundersFundingCouch March 31 @ 10:00am. Please Join OPN (Open People Network)for our first Live at the #FounderFundingCouch online chat where we will be speaking with Angels Investors and startups around funding and what options we have in todays environment. Looking forward to continuing to support the Startup Ecosystem!\nApplications to pitch and be part of the showcase are now open!\nApply NowRegister NowLearn MoreMarch 31Founder Funding Couch0000Days00Hrs00Min00SecRegister Now
URL:https://openpeoplenetwork.com/event/founders-funding-couch-mar-31/
END:VEVENT
BEGIN:VEVENT
DTSTART;TZID=America/Toronto:20200324T080000
DTEND;TZID=America/Toronto:20200324T170000
DTSTAMP:20260424T115453
CREATED:20200324T132103Z
LAST-MODIFIED:20231017T140916Z
UID:8616-1585036800-1585069200@openpeoplenetwork.com
SUMMARY:Founders Funding Couch April 6
DESCRIPTION:#FoundersFundingCouch\nApril 6\, 2020 10:00am\nFree Online Event\nRegister NowJoin OPN (Open People Network) for our first Live at the #FoundersFundingCouch online chat on April 6th from 10am to 11am\, where we will be speaking with Angels Investors and startups around funding and what options we have in today’s environment. Looking forward to continuing to support the Startup Ecosystem!\nThe Agenda\n10:00amOpening Introductions\, Jeffery Potvin10:05amKeynote\, Kevin Zicherman10:22amPanel\, Pivot? If I don’t do this today I will fail tomorrow.10:55amClosing Remarks\, Jeffery PotvinnKeynote\, Kevin Zicherman\nFounder & CEO of MyWifi Networks \nKevin is a marketing guru\, growth hacker\, speaker & business coach. He has invested in a number of businesses in the Toronto area. \nKevin is currently the Founder & CEO of MyWiFi Networks\, a white label social-powered Wi-Fi marketing platform designed for resellers. His specialties include affiliate marketing strategies and marketing to retail customers. \nPanel\nPanel\, Pivot? If I don’t do this today I will fail tomorrow.\nJeffery PotvinFounder/GP Supporters Fund OPNLearn MoreChristiane WherryCo-Founder & COO PointilioAdam BentCo-Founder & CEO ScoutDennis dos SantosCFO and VP Corporate Development TROES Corp.The Show\nApplications to pitch for upcoming shows are now open!\nApply NowRegister NowLearn MoreApril 6Live at the FounderFundingCouch0000Days00Hrs00Min00SecRegister Now
URL:https://openpeoplenetwork.com/event/founders-funding-couch-april-6/
LOCATION:online
END:VEVENT
BEGIN:VEVENT
DTSTART;TZID=America/Toronto:20200331T080000
DTEND;TZID=America/Toronto:20200331T170000
DTSTAMP:20260424T115453
CREATED:20200331T155538Z
LAST-MODIFIED:20231017T140921Z
UID:8684-1585641600-1585674000@openpeoplenetwork.com
SUMMARY:Founders Funding Couch Apr 13
DESCRIPTION:#FoundersFundingCouch\nApril 13\, 2020 10:00am\nFree Online Event\nRegister NowJoin OPN (Open People Network) for our first Live at the #FoundersFundingCouch online chat on April 13th from 10am to 11am\, where we will be speaking with Angels Investors and startups around funding and what options we have in today’s environment. Looking forward to continuing to support the Startup Ecosystem!\nThe Agenda\n10:00amOpening Introductions\, Jeffery Potvin10:05amKeynote10:22amPanel\, Pivot? If I don’t do this today I will fail tomorrow.10:55amClosing Remarks\, Jeffery PotvinnKeynote\n \n \nPanel\nJeffery PotvinFounder/GP Supporters Fund OPNLearn MoreChristiane WherryCo-Founder & COO PointilioAdam BentCo-Founder & CEO ScoutDennis dos SantosCFO and VP Corporate Development TROES Corp.Applications to pitch for upcoming shows are now open!\nApply NowRegister NowLearn MoreApril 13Live at the FounderFundingCouch0000Days00Hrs00Min00SecRegister Now
URL:https://openpeoplenetwork.com/event/founders-funding-couch-apr-13/
END:VEVENT
BEGIN:VEVENT
DTSTART;TZID=America/Toronto:20200331T080000
DTEND;TZID=America/Toronto:20200331T170000
DTSTAMP:20260424T115453
CREATED:20200331T161806Z
LAST-MODIFIED:20231017T140923Z
UID:8685-1585641600-1585674000@openpeoplenetwork.com
SUMMARY:Founders Funding Couch Apr 20
DESCRIPTION:#FoundersFundingCouch\nApril 20\, 2020 10:00am\nFree Online Event\nRegister NowJoin OPN (Open People Network) for our first Live at the #FoundersFundingCouch online chat on April 20th from 10am to 11am\, where we will be speaking with Angels Investors and startups around funding and what options we have in today’s environment. Looking forward to continuing to support the Startup Ecosystem!\nThe Agenda\n10:00amOpening Introductions\, Jeffery Potvin10:05amKeynote10:22amMental Health Founders – Don’t Suffer in Silence10:55amClosing Remarks\, Jeffery PotvinnKeynote\, Cherry Rose Tan\nFounder & CEO at For Founders by Founders \nI lead For Founders by Founders\, the mental health movement for the tech industry. Founders and investors pledge their mental health stories as survivors or allies. Since its inception in 2018\, there are over 60 champions across North America. Once an award-winning educator\, I have taught Canada’s billionaire families. \nWith three certifications in Special Education and two certifications in Leadership Coaching\, I have guided hundreds of individuals through the trenches of mental health. With my superpower of deep work\, I help world-class founders turn their pain into power. The world needs leaders who truly know themselves AND be themselves. \nWith a decade in psychology\, I am a mental health authority in the tech space\, speaking regularly at conferences. For its inaugural year in Canada\, I was the MC for Collision’s Startup University\, North America’s largest tech conference with 27\,000 attendees. My work has been featured in Forbes\, Inc.\, The Globe and Mail\, and more. \nPanel\nMental Health Founders – Don’t Suffer in Silence\nJeffery PotvinFounder/GP Supporters Fund OPNLearn MoreDr. Ana Francisca Trueba\nClinical Psychologist at McLean Hospital \nJeff RiseleyImproving Mental Health for Sales TeamsLearn MoreMichael Stroh\nMental Health Speaker\, Educator\, & Consultant \nLearn MoreLuke VigeantCo-Founder and CEO at InkblotLearn MoreThe Show\nApplications to pitch for upcoming shows are now open!\nApply NowRegister NowLearn MoreApril 20Live at the FounderFundingCouch0000Days00Hrs00Min00SecRegister Now
URL:https://openpeoplenetwork.com/event/founders-funding-couch-apr-20/
LOCATION:online
END:VEVENT
BEGIN:VEVENT
DTSTART;TZID=America/Toronto:20200331T080000
DTEND;TZID=America/Toronto:20200331T170000
DTSTAMP:20260424T115453
CREATED:20200331T161845Z
LAST-MODIFIED:20231017T142259Z
UID:8683-1585641600-1585674000@openpeoplenetwork.com
SUMMARY:Founders Funding Couch Apr 27
DESCRIPTION:#FoundersFundingCouch\nApril 27\, 2020 10:00am\nFree Online Event\nRegister NowJoin OPN (Open People Network) for our first Live at the #FoundersFundingCouch online chat on April 27th from 10am to 11am\, where we will be speaking with Angels Investors and startups around funding and what options we have in today’s environment. Looking forward to continuing to support the Startup Ecosystem!\nThe Agenda\n10:00amOpening Introductions\, Jeffery Potvin10:05amKeynote10:22amPanel\, Pivot? If I don’t do this today I will fail tomorrow.10:55amClosing Remarks\, Jeffery PotvinnKeynote\n \n \nPanel\nJeffery PotvinFounder/GP Supporters Fund OPNLearn MoreChristiane WherryCo-Founder & COO PointilioAdam BentCo-Founder & CEO ScoutDennis dos SantosCFO and VP Corporate Development TROES Corp.Applications to pitch for upcoming shows are now open!\nApply NowRegister NowLearn MoreApril 27Live at the FounderFundingCouch0000Days00Hrs00Min00SecRegister Now
URL:https://openpeoplenetwork.com/event/founders-funding-couch-apr-27/
END:VEVENT
END:VCALENDAR