BEGIN:VCALENDAR
VERSION:2.0
PRODID:-//Open People Network - ECPv6.8.2//NONSGML v1.0//EN
CALSCALE:GREGORIAN
METHOD:PUBLISH
X-WR-CALNAME:Open People Network
X-ORIGINAL-URL:https://openpeoplenetwork.com
X-WR-CALDESC:Events for Open People Network
REFRESH-INTERVAL;VALUE=DURATION:PT1H
X-Robots-Tag:noindex
X-PUBLISHED-TTL:PT1H
BEGIN:VTIMEZONE
TZID:America/Toronto
BEGIN:DAYLIGHT
TZOFFSETFROM:-0500
TZOFFSETTO:-0400
TZNAME:EDT
DTSTART:20200308T070000
END:DAYLIGHT
BEGIN:STANDARD
TZOFFSETFROM:-0400
TZOFFSETTO:-0500
TZNAME:EST
DTSTART:20201101T060000
END:STANDARD
END:VTIMEZONE
BEGIN:VEVENT
DTSTART;TZID=America/Toronto:20201012T080000
DTEND;TZID=America/Toronto:20201012T170000
DTSTAMP:20260420T102711
CREATED:20201012T173435Z
LAST-MODIFIED:20231017T142453Z
UID:9476-1602489600-1602522000@openpeoplenetwork.com
SUMMARY:PitchItSKIPtheLINE Show Jan 28
DESCRIPTION:in partnership\nPRESENT\nJAN 28\, 2021\n2:00pm\nOnline Event\nRegister NowExclusive Closed Pitch Event\nOpen People Network (OPN) has partnered with The City of Toronto and StartupHERE Toronto for our private pitching event\, #PitchItSkiptheLine. #PitchItSkiptheLine is an exclusive closed pitch event\, that includes top Angels and Investors. If you are a startup looking for investment\, Skip the Line and pitch to a targeted audience of multiple investors in one room. \nWhat to Expect\n10 startups will deliver an online 7 minute pitch to 5 or more Angels Leads for a total of 17 minutes. The event will start at 2:00 sharp\, with an opening address from OPN\, the pitches will start at 2:05pm. The pitches will be scheduled every 17 minutes. \nEach startup will receive up to 5 hours of prep work from the OPN team to ensure the pitch and Data Room are aligned to the investor’s needs. \nCost and Details\nStartup\n$700 per startup + applicable tax \n\n10 Pitches per event\, first come first serve\nCost of $700\n\nInvestor\n$40 per person + applicable tax \n\nCompany Profiles\, Access to Deep Dive folders.\n\n \nThe PitchesAirScootOur mission is to take cars off the road by providing affordable and convenient electric transportation. We do this by placing E-scooters in the lobbies of apartment buildings to create “mobility for tenants”.Learn MoreHealthcareWingsHealthcareWings is a data driven platform where job seekers and employers meet. It uses a knowledge graph backed by AI and machine-learning algorithms to offer the most comprehensive dataset of the US workforce\, healthcare facilities\, and jobs.Learn MoreApplications to pitch are now open!\nContact UsRegister NowLearn MoreSponsorsPitchItSKIPtheLINE Show Jan 28Online Event0000Days00Hrs00Min00SecRegister Now
URL:https://openpeoplenetwork.com/event/pitchitskiptheline-show-jan-28/
END:VEVENT
BEGIN:VEVENT
DTSTART;TZID=America/Toronto:20201012T080000
DTEND;TZID=America/Toronto:20201012T170000
DTSTAMP:20260420T102712
CREATED:20201012T174412Z
LAST-MODIFIED:20231017T142458Z
UID:9481-1602489600-1602522000@openpeoplenetwork.com
SUMMARY:PitchItSKIPtheLINE Show Mar 25
DESCRIPTION:in partnership\nPRESENT\nMAR 25\, 2020\n2:00pm\nOnline Event\nRegister NowExclusive Closed Pitch Event\nOpen People Network (OPN) has partnered with The City of Toronto and StartupHERE Toronto for our private pitching event\, #PitchItSkiptheLine. #PitchItSkiptheLine is an exclusive closed pitch event\, that includes top Angels and Investors. If you are a startup looking for investment\, Skip the Line and pitch to a targeted audience of multiple investors in one room. \nWhat to Expect\n10 startups will deliver an online 7 minute pitch to 5 or more Angels Leads for a total of 17 minutes. The event will start at 2:00 sharp\, with an opening address from OPN\, the pitches will start at 2:05pm. The pitches will be scheduled every 17 minutes. \nEach startup will receive up to 5 hours of prep work from the OPN team to ensure the pitch and Data Room are aligned to the investor’s needs. \nCost and Details\nStartup\n$600 per person + applicable tax \n\n10 Pitches per event\, first come first serve\, tickets must be purchased\, per person on SeatGIANTEvents.ca\nCost of $600\n\nInvestor\n$40 per person + applicable tax \n\nBooklet\, Investor Booklet\, Access to Deep Dive folders\, Dinner\, Beverages and 2 Networking Sessions with Access to Deep Dive folders\n\n \nThe PitchesThe Advisors Angelo Del Duca\n\nAngel Investor\, Multiple Regions \n\nLearn MoreJeff Champagne\nPresident\, FST Companies \nLearn MoreApplications to pitch are now open!\nContact UsRegister NowLearn MoreSponsorsPitchItSKIPtheLINE Show Mar 25Online Event0000Days00Hrs00Min00SecRegister Now
URL:https://openpeoplenetwork.com/event/pitchitskiptheline-show-mar-25/
END:VEVENT
BEGIN:VEVENT
DTSTART;TZID=America/Toronto:20201012T080000
DTEND;TZID=America/Toronto:20201012T170000
DTSTAMP:20260420T102712
CREATED:20201012T175219Z
LAST-MODIFIED:20231017T142457Z
UID:9484-1602489600-1602522000@openpeoplenetwork.com
SUMMARY:PitchItSKIPtheLINE Show May 27
DESCRIPTION:in partnership\nPRESENT\nMAY 27\, 2020\n2:00pm\nOnline Event\nRegister NowExclusive Closed Pitch Event\nOpen People Network (OPN) has partnered with The City of Toronto and StartupHERE Toronto for our private pitching event\, #PitchItSkiptheLine. #PitchItSkiptheLine is an exclusive closed pitch event\, that includes top Angels and Investors. If you are a startup looking for investment\, Skip the Line and pitch to a targeted audience of multiple investors in one room. \nWhat to Expect\n10 startups will deliver an online 7 minute pitch to 5 or more Angels Leads for a total of 17 minutes. The event will start at 2:00 sharp\, with an opening address from OPN\, the pitches will start at 2:05pm. The pitches will be scheduled every 17 minutes. \nEach startup will receive up to 5 hours of prep work from the OPN team to ensure the pitch and Data Room are aligned to the investor’s needs. \nCost and Details\nStartup\n$600 per person + applicable tax \n\n10 Pitches per event\, first come first serve\, tickets must be purchased\, per person on SeatGIANTEvents.ca\nCost of $600\n\nInvestor\n$40 per person + applicable tax \n\nBooklet\, Investor Booklet\, Access to Deep Dive folders\, Dinner\, Beverages and 2 Networking Sessions with Access to Deep Dive folders\n\n \nThe PitchesThe Advisors Angelo Del Duca\n\nAngel Investor\, Multiple Regions \n\nLearn MoreJeff Champagne\nPresident\, FST Companies \nLearn MoreApplications to pitch are now open!\nContact UsRegister NowLearn MoreSponsorsPitchItSKIPtheLINE Show May 27Online Event0000Days00Hrs00Min00SecRegister Now
URL:https://openpeoplenetwork.com/event/pitchitskiptheline-show-may-27/
END:VEVENT
BEGIN:VEVENT
DTSTART;TZID=America/Toronto:20201012T080000
DTEND;TZID=America/Toronto:20201012T170000
DTSTAMP:20260420T102712
CREATED:20201012T175737Z
LAST-MODIFIED:20231017T142501Z
UID:9489-1602489600-1602522000@openpeoplenetwork.com
SUMMARY:PitchItSKIPtheLINE Show July 29
DESCRIPTION:in partnership\nPRESENT\nJUL 29\, 2020\n2:00pm\nOnline Event\nRegister NowExclusive Closed Pitch Event\nOpen People Network (OPN) has partnered with The City of Toronto and StartupHERE Toronto for our private pitching event\, #PitchItSkiptheLine. #PitchItSkiptheLine is an exclusive closed pitch event\, that includes top Angels and Investors. If you are a startup looking for investment\, Skip the Line and pitch to a targeted audience of multiple investors in one room. \nWhat to Expect\n10 startups will deliver an online 7 minute pitch to 5 or more Angels Leads for a total of 17 minutes. The event will start at 2:00 sharp\, with an opening address from OPN\, the pitches will start at 2:05pm. The pitches will be scheduled every 17 minutes. \nEach startup will receive up to 5 hours of prep work from the OPN team to ensure the pitch and Data Room are aligned to the investor’s needs. \nCost and Details\nStartup\n$600 per person + applicable tax \n\n10 Pitches per event\, first come first serve\, tickets must be purchased\, per person on SeatGIANTEvents.ca\nCost of $600\n\nInvestor\n$40 per person + applicable tax \n\nBooklet\, Investor Booklet\, Access to Deep Dive folders\, Dinner\, Beverages and 2 Networking Sessions with Access to Deep Dive folders\n\n \nThe PitchesThe Advisors Angelo Del Duca\n\nAngel Investor\, Multiple Regions \n\nLearn MoreJeff Champagne\nPresident\, FST Companies \nLearn MoreApplications to pitch are now open!\nContact UsRegister NowLearn MoreSponsorsPitchItSKIPtheLINE Show Jul 29Online Event0000Days00Hrs00Min00SecRegister Now
URL:https://openpeoplenetwork.com/event/pitchitskiptheline-show-july-29/
END:VEVENT
BEGIN:VEVENT
DTSTART;TZID=America/Toronto:20201012T080000
DTEND;TZID=America/Toronto:20201012T170000
DTSTAMP:20260420T102712
CREATED:20201012T180128Z
LAST-MODIFIED:20231017T142516Z
UID:9492-1602489600-1602522000@openpeoplenetwork.com
SUMMARY:PitchItSKIPtheLINE Show Sep 30
DESCRIPTION:in partnership\nPRESENT\nSEP 30\, 2020\n2:00pm\nOnline Event\nRegister NowExclusive Closed Pitch Event\nOpen People Network (OPN) has partnered with The City of Toronto and StartupHERE Toronto for our private pitching event\, #PitchItSkiptheLine. #PitchItSkiptheLine is an exclusive closed pitch event\, that includes top Angels and Investors. If you are a startup looking for investment\, Skip the Line and pitch to a targeted audience of multiple investors in one room. \nWhat to Expect\n10 startups will deliver an online 7 minute pitch to 5 or more Angels Leads for a total of 17 minutes. The event will start at 2:00 sharp\, with an opening address from OPN\, the pitches will start at 2:05pm. The pitches will be scheduled every 17 minutes. \nEach startup will receive up to 5 hours of prep work from the OPN team to ensure the pitch and Data Room are aligned to the investor’s needs. \nCost and Details\nStartup\n$600 per person + applicable tax \n\n10 Pitches per event\, first come first serve\, tickets must be purchased\, per person on SeatGIANTEvents.ca\nCost of $600\n\nInvestor\n$40 per person + applicable tax \n\nBooklet\, Investor Booklet\, Access to Deep Dive folders\, Dinner\, Beverages and 2 Networking Sessions with Access to Deep Dive folders\n\n \nThe PitchesThe Advisors Angelo Del Duca\n\nAngel Investor\, Multiple Regions \n\nLearn MoreJeff Champagne\nPresident\, FST Companies \nLearn MoreApplications to pitch are now open!\nContact UsRegister NowLearn MoreSponsorsPitchItSKIPtheLINE Show Sep 30Online Event0000Days00Hrs00Min00SecRegister Now
URL:https://openpeoplenetwork.com/event/pitchitskiptheline-show-sep-30/
END:VEVENT
BEGIN:VEVENT
DTSTART;TZID=America/Toronto:20201012T080000
DTEND;TZID=America/Toronto:20201012T170000
DTSTAMP:20260420T102712
CREATED:20201012T181048Z
LAST-MODIFIED:20231017T142505Z
UID:9495-1602489600-1602522000@openpeoplenetwork.com
SUMMARY:PitchItSKIPtheLINE Show Nov 25
DESCRIPTION:in partnership\nPRESENT\nNOV 25\, 2020\n2:00pm\nOnline Event\nRegister NowExclusive Closed Pitch Event\nOpen People Network (OPN) has partnered with The City of Toronto and StartupHERE Toronto for our private pitching event\, #PitchItSkiptheLine. #PitchItSkiptheLine is an exclusive closed pitch event\, that includes top Angels and Investors. If you are a startup looking for investment\, Skip the Line and pitch to a targeted audience of multiple investors in one room. \nWhat to Expect\n10 startups will deliver an online 7 minute pitch to 5 or more Angels Leads for a total of 17 minutes. The event will start at 2:00 sharp\, with an opening address from OPN\, the pitches will start at 2:05pm. The pitches will be scheduled every 17 minutes. \nEach startup will receive up to 5 hours of prep work from the OPN team to ensure the pitch and Data Room are aligned to the investor’s needs. \nCost and Details\nStartup\n$600 per person + applicable tax \n\n10 Pitches per event\, first come first serve\, tickets must be purchased\, per person on SeatGIANTEvents.ca\nCost of $600\n\nInvestor\n$40 per person + applicable tax \n\nBooklet\, Investor Booklet\, Access to Deep Dive folders\, Dinner\, Beverages and 2 Networking Sessions with Access to Deep Dive folders\n\n \nThe PitchesThe Advisors Angelo Del Duca\n\nAngel Investor\, Multiple Regions \n\nLearn MoreJeff Champagne\nPresident\, FST Companies \nLearn MoreApplications to pitch are now open!\nContact UsRegister NowLearn MoreSponsorsPitchItSKIPtheLINE Show Nov 25Online Event0000Days00Hrs00Min00SecRegister Now
URL:https://openpeoplenetwork.com/event/pitchitskiptheline-show-nov-25/
END:VEVENT
END:VCALENDAR