BEGIN:VCALENDAR
VERSION:2.0
PRODID:-//Open People Network - ECPv6.8.2//NONSGML v1.0//EN
CALSCALE:GREGORIAN
METHOD:PUBLISH
X-WR-CALNAME:Open People Network
X-ORIGINAL-URL:https://openpeoplenetwork.com
X-WR-CALDESC:Events for Open People Network
REFRESH-INTERVAL;VALUE=DURATION:PT1H
X-Robots-Tag:noindex
X-PUBLISHED-TTL:PT1H
BEGIN:VTIMEZONE
TZID:America/Toronto
BEGIN:DAYLIGHT
TZOFFSETFROM:-0500
TZOFFSETTO:-0400
TZNAME:EDT
DTSTART:20200308T070000
END:DAYLIGHT
BEGIN:STANDARD
TZOFFSETFROM:-0400
TZOFFSETTO:-0500
TZNAME:EST
DTSTART:20201101T060000
END:STANDARD
END:VTIMEZONE
BEGIN:VEVENT
DTSTART;TZID=America/Toronto:20201007T080000
DTEND;TZID=America/Toronto:20201007T170000
DTSTAMP:20260419T203512
CREATED:20201007T161517Z
LAST-MODIFIED:20231017T142451Z
UID:9469-1602057600-1602090000@openpeoplenetwork.com
SUMMARY:Sow from Home
DESCRIPTION:in partnership\nPRESENT\nOct 22-23\, 2020\nRegister NowSOW’s Startup Pitch Program allows the best startups with unique ideas to display their product or service by means of a virtual booth at India’s biggest Virtual Summit\, SOW From Home. \nTop 5 Selected Startups will get the opportunity to present their ideas in front of a panel of Investors on the 23rd of October. \nThe selected startups will be sponsored by Open People Network (Canada)\, to enter the Skip The Line event. (Read More) \nAn amount of Rs 500 will be charged as a participation fee\, and for an attendee ticket @ SOW Summit to network with over 500 investors and 10000 attendees. \nThe Pitches\nThe Advisors\nAngelo Del Duca\nAngel Investor\, York Angel Investors \nLearn MoreJeff ChampagnePresident\, FST CompaniesLearn MoreApplications to pitch and be part of the showcase are now open!\nApply NowRegister NowLearn MoreSponsors and PartnersSOW Oct 22-230000Days00Hrs00Min00SecRegister Now
URL:https://openpeoplenetwork.com/event/sow-from-home/
END:VEVENT
END:VCALENDAR