BEGIN:VCALENDAR
VERSION:2.0
PRODID:-//Open People Network - ECPv6.8.2//NONSGML v1.0//EN
CALSCALE:GREGORIAN
METHOD:PUBLISH
X-ORIGINAL-URL:https://openpeoplenetwork.com
X-WR-CALDESC:Events for Open People Network
REFRESH-INTERVAL;VALUE=DURATION:PT1H
X-Robots-Tag:noindex
X-PUBLISHED-TTL:PT1H
BEGIN:VTIMEZONE
TZID:America/Toronto
BEGIN:DAYLIGHT
TZOFFSETFROM:-0500
TZOFFSETTO:-0400
TZNAME:EDT
DTSTART:20200308T070000
END:DAYLIGHT
BEGIN:STANDARD
TZOFFSETFROM:-0400
TZOFFSETTO:-0500
TZNAME:EST
DTSTART:20201101T060000
END:STANDARD
END:VTIMEZONE
BEGIN:VEVENT
DTSTART;TZID=America/Toronto:20201005T080000
DTEND;TZID=America/Toronto:20201005T170000
DTSTAMP:20260421T051123
CREATED:20201005T133123Z
LAST-MODIFIED:20231017T142447Z
UID:9462-1601884800-1601917200@openpeoplenetwork.com
SUMMARY:PitchIt Show Jan 21
DESCRIPTION:in partnership\nPRESENT\nJan 21\, 2021 2:00pm\nRegister NowInvesting in Entrepreneurial Success\nJoin OPN and partners as we bring together entrepreneurs\, investors and potential investors and create a community of sharing and collaboration. \nWhat to Expect\n5 startups pitching for 7 minutes to 2 angel investors and an audience that is comprised of entrepreneurs\, angel investors\, partners and business leaders. \nThe Pitches\nForecastrForecastr is an online financial modeling platform that helps founders build great financial models\, impress investors\, and make better decisions.Learn MoreAirScootOur mission is to take cars off the road by providing affordable and convenient electric transportation. We do this by placing E-scooters in the lobbies of apartment buildings to create “mobility for tenants”.Learn MoreOrcaSmartWhy our company named after Orca? Our founder is a lifelong fan of the majestic sea mammal. Orcas are intelligent\, social creatures who accomplish amazing things when they work together (Our Company Concept). Part of our corporate philosophy is to donate a portion of our profits to save Orcas and their habitat.Learn MoreLABNEARWe are a cloud-based lab management system & diagnostics labs aggregator in India\, Our unique features offers nursing\, pathology\, eye opd at home and help small diagnostic centers build tech capabilities to reach more users\, this market size in India is about USD 16 billion.Learn MoreHealthcareWingsHealthcareWings is a data driven platform where job seekers and employers meet. It uses a knowledge graph backed by AI and machine-learning algorithms to offer the most comprehensive dataset of the US workforce\, healthcare facilities\, and jobs.Learn MoreThe Advisors\nAngelo Del Duca\nAngel Investor\, York Angel Investors \nLearn MoreJeff ChampagneGP Supporters Fund Spark AngelsLearn MoreCari EnayatiMade Nobel Inc.Learn MoreApplications to pitch and be part of the showcase are now open!\nApply NowRegister NowLearn MoreSponsors and PartnersPitchIt Jan 210000Days00Hrs00Min00SecRegister Now
URL:https://openpeoplenetwork.com/event/pitchit-show-jan-21/
END:VEVENT
END:VCALENDAR