BEGIN:VCALENDAR
VERSION:2.0
PRODID:-//Open People Network - ECPv6.8.2//NONSGML v1.0//EN
CALSCALE:GREGORIAN
METHOD:PUBLISH
X-WR-CALNAME:Open People Network
X-ORIGINAL-URL:https://openpeoplenetwork.com
X-WR-CALDESC:Events for Open People Network
REFRESH-INTERVAL;VALUE=DURATION:PT1H
X-Robots-Tag:noindex
X-PUBLISHED-TTL:PT1H
BEGIN:VTIMEZONE
TZID:America/Toronto
BEGIN:DAYLIGHT
TZOFFSETFROM:-0500
TZOFFSETTO:-0400
TZNAME:EDT
DTSTART:20200308T070000
END:DAYLIGHT
BEGIN:STANDARD
TZOFFSETFROM:-0400
TZOFFSETTO:-0500
TZNAME:EST
DTSTART:20201101T060000
END:STANDARD
END:VTIMEZONE
BEGIN:VEVENT
DTSTART;TZID=America/Toronto:20200716T080000
DTEND;TZID=America/Toronto:20200716T170000
DTSTAMP:20260420T194250
CREATED:20200527T134337Z
LAST-MODIFIED:20231017T142444Z
UID:9119-1594886400-1594918800@openpeoplenetwork.com
SUMMARY:Supporters Funde2e Jul 16
DESCRIPTION:#SupportersFunde2e\nJul 16\, 2020 2:00pm\nFree Online Event\nRegister Nowapply to participateGet involved and give back to entrepreneurs in the OPN Community. Whether you’re an entrepreneur\, Investor or business leader\, pay it forward and support the startup community during these challenging times at #SupportersFunde2e.\nWhat to expect – Startups will each have 2 minutes to tell you about their business and what they need help with. The audience\, will have a chance to meet all presenters and offer help where they can.\nIf you have a startup\, do you have 2 – 3 things you currently need help with? Are you looking for a CTO\, Manufacturer\, designer\, other startups that you can partner with? Let us know how the community can help you!\nApplications to pitch for upcoming shows are now open!\nApply to participateRegister NowLearn MoreSponsorsJul 16#SupportersFunde2e0000Days00Hrs00Min00SecRegister Now
URL:https://openpeoplenetwork.com/event/supporters-funde2e-jul-16/
END:VEVENT
END:VCALENDAR