BEGIN:VCALENDAR
VERSION:2.0
PRODID:-//Open People Network - ECPv6.8.2//NONSGML v1.0//EN
CALSCALE:GREGORIAN
METHOD:PUBLISH
X-WR-CALNAME:Open People Network
X-ORIGINAL-URL:https://openpeoplenetwork.com
X-WR-CALDESC:Events for Open People Network
REFRESH-INTERVAL;VALUE=DURATION:PT1H
X-Robots-Tag:noindex
X-PUBLISHED-TTL:PT1H
BEGIN:VTIMEZONE
TZID:America/Toronto
BEGIN:DAYLIGHT
TZOFFSETFROM:-0500
TZOFFSETTO:-0400
TZNAME:EDT
DTSTART:20200308T070000
END:DAYLIGHT
BEGIN:STANDARD
TZOFFSETFROM:-0400
TZOFFSETTO:-0500
TZNAME:EST
DTSTART:20201101T060000
END:STANDARD
END:VTIMEZONE
BEGIN:VEVENT
DTSTART;TZID=America/Toronto:20200713T080000
DTEND;TZID=America/Toronto:20200713T170000
DTSTAMP:20260420T091559
CREATED:20191115T140058Z
LAST-MODIFIED:20231017T142437Z
UID:7496-1594627200-1594659600@openpeoplenetwork.com
SUMMARY:PitchItSKIPtheLINE Show Jul13
DESCRIPTION:in partnership\nPRESENT\nJuly 13\, 2020\n4:00pm to 6:00pm\nOnline Event\nRegister NowExclusive Closed Pitch Event\nOpen People Network (OPN) has partnered with The City of Toronto and StartupHERE Toronto for our private pitching event\, #PitchItSkiptheLine. \n#PitchItSkiptheLine is an exclusive closed pitch event\, that includes top Angels and Investors. If you are a startup looking for investment\, Skip the Line and pitch to a targeted audience of multiple investors in one room. \nWhat to Expect\n10 startups will deliver an online 7 minute pitch to a room to 5 Angels Leads for a total of 17 minutes. The event will start at 4:00 sharp\, with an opening address from OPN\, the pitches will start at 4:05pm. The pitches will be scheduled every 17 minutes. \nCost and Details\nStartup\n$600 per person + applicable tax \n\n10 Pitches per event\, first come first serve\, tickets must be purchased\, per person on SeatGIANTEvents.ca\nCost of $600\n\nInvestor\n$40 per person + applicable tax \n\nBooklet\, Investor Booklet\, Access to Deep Dive folders\, Dinner\, Beverages and 2 Networking Sessions with Access to Deep Dive folders\n\nGeneral Attendee\n$15 per person + applicable tax \nThe PitchesThe AdvisorsMichelle McCorkellProgram Manager at Golden Triangle Angel Network (GTAN)Learn MoreMira SiroticVice President – Keiretsu Forum Canada\, Speaker\, EntrepreneurLearn MoreGalen UdellExecutive Director\, Advisor\, Investor at York Angel InvestorsLearn MoreApplications to pitch are now open!\nContact UsRegister NowLearn MoreSponsorsPitchItSKIPtheLINE Show July 13Toronto City Hall The Chambers0000Days00Hrs00Min00SecRegister Now
URL:https://openpeoplenetwork.com/event/pitchitskiptheline-show-jul13/
END:VEVENT
END:VCALENDAR