BEGIN:VCALENDAR
VERSION:2.0
PRODID:-//Open People Network - ECPv6.8.2//NONSGML v1.0//EN
CALSCALE:GREGORIAN
METHOD:PUBLISH
X-ORIGINAL-URL:https://openpeoplenetwork.com
X-WR-CALDESC:Events for Open People Network
REFRESH-INTERVAL;VALUE=DURATION:PT1H
X-Robots-Tag:noindex
X-PUBLISHED-TTL:PT1H
BEGIN:VTIMEZONE
TZID:America/Toronto
BEGIN:DAYLIGHT
TZOFFSETFROM:-0500
TZOFFSETTO:-0400
TZNAME:EDT
DTSTART:20200308T070000
END:DAYLIGHT
BEGIN:STANDARD
TZOFFSETFROM:-0400
TZOFFSETTO:-0500
TZNAME:EST
DTSTART:20201101T060000
END:STANDARD
END:VTIMEZONE
BEGIN:VEVENT
DTSTART;TZID=America/Toronto:20200709T080000
DTEND;TZID=America/Toronto:20200709T170000
DTSTAMP:20260422T211833
CREATED:20200709T140032Z
LAST-MODIFIED:20231017T142318Z
UID:9289-1594281600-1594314000@openpeoplenetwork.com
SUMMARY:PitchIt Show Sep 17
DESCRIPTION:in partnership\nPRESENT\nSep 17\, 2020 2:00pm\nRegister NowInvesting in Entrepreneurial Success\nJoin OPN and partners as we bring together entrepreneurs\, investors and potential investors and create a community of sharing and collaboration. \nWhat to Expect\n5 startups pitching for 7 minutes to 2 angel investors and an audience that is comprised of entrepreneurs\, angel investors\, partners and business leaders. \nThe Pitches\nEon MediaEon Media is on a mission to build next-gen video streaming solutions for Media and Telecom companies that reduce latency for Live Streaming to NetLearn MoreQuickNews\nQN Technologies develops news aggregation and recommendation technology powered by AI. The company has released QuickNews\, an aggregator app for Android and iOS. \nLearn MoreSmartConcilSmartConcil is a platform providing small businesses\, corporations and financial institutions with an easy way to manage cash-flow and create financial projections through an automated financial reconciliation process.Learn More4th Ave Market4th Ave Market is the Largest Black owned online Hair and Beauty retail platform in the US\, with National Brands\, niche and newly discovered Hair Care\, Beauty and Personal Care products created by and for consumers of color. Our mission is to “Reinvent Retail for People of Color”Learn MoreTidal LeagueTidal League was created because we are you. We know the excitement and exhilaration of game day. We feel the same powerful emotions when our team wins and when they lose. Tidal League will bring you their stories and more.Learn MoreThe Show\nThe Advisors\nAngelo Del Duca\nAngel Investor\, York Angel Investors \nLearn MoreJeff ChampagneGP\, The Supporters FundLearn MoreApplications to pitch and be part of the showcase are now open!\nApply NowRegister NowLearn MoreSponsors and PartnersPitchIt Sep 170000Days00Hrs00Min00SecRegister Now
URL:https://openpeoplenetwork.com/event/pitchit-show-sep-17/
LOCATION:online
END:VEVENT
BEGIN:VEVENT
DTSTART;TZID=America/Toronto:20200709T080000
DTEND;TZID=America/Toronto:20200709T170000
DTSTAMP:20260422T211833
CREATED:20200709T140611Z
LAST-MODIFIED:20231017T142350Z
UID:9291-1594281600-1594314000@openpeoplenetwork.com
SUMMARY:PitchIt Show Nov 19
DESCRIPTION:in partnership\nPRESENT\nNov 19\, 2020 2:00pm\nRegister NowInvesting in Entrepreneurial Success\nJoin OPN and partners as we bring together entrepreneurs\, investors and potential investors and create a community of sharing and collaboration. \nWhat to Expect\n4 startups pitching for 5-7 minutes to 2 angel investors and an audience that is comprised of entrepreneurs\, angel investors\, partners and business leaders. \nThe Pitches\nRoll ScootersRoll offers smart mobility solutions by providing dock-less e-scooter and e-bike share services to cities and campusesLearn MoreNo Fuss TutorsBy leveraging automation in operations\, we are able to offer all the benefits of working with a full-service tutoring company (usually $65/hr+) for the price of a typical freelance tutor ($30/hr).Learn MoreSoulRooms IncFor young professionals who want to live in city centers and network with like-minded people\, SoulRooms.com is a technology platform that provides access to furnished\, all-utilities inclusive private rooms with shared common spaces in the heart of the city.Learn MoreThe Advisors\nAngelo Del Duca\nAngel Investor\, York Angel Investors \nLearn MoreJeff ChampagnePresident\, FST CompaniesLearn MoreApplications to pitch and be part of the showcase are now open!\nApply NowRegister NowLearn MoreSponsors and PartnersPitchIt Nov 190000Days00Hrs00Min00SecRegister Now
URL:https://openpeoplenetwork.com/event/pitchit-show-nov-19/
LOCATION:online
END:VEVENT
END:VCALENDAR