BEGIN:VCALENDAR
VERSION:2.0
PRODID:-//Open People Network - ECPv6.8.2//NONSGML v1.0//EN
CALSCALE:GREGORIAN
METHOD:PUBLISH
X-WR-CALNAME:Open People Network
X-ORIGINAL-URL:https://openpeoplenetwork.com
X-WR-CALDESC:Events for Open People Network
REFRESH-INTERVAL;VALUE=DURATION:PT1H
X-Robots-Tag:noindex
X-PUBLISHED-TTL:PT1H
BEGIN:VTIMEZONE
TZID:America/Toronto
BEGIN:DAYLIGHT
TZOFFSETFROM:-0500
TZOFFSETTO:-0400
TZNAME:EDT
DTSTART:20200308T070000
END:DAYLIGHT
BEGIN:STANDARD
TZOFFSETFROM:-0400
TZOFFSETTO:-0500
TZNAME:EST
DTSTART:20201101T060000
END:STANDARD
END:VTIMEZONE
BEGIN:VEVENT
DTSTART;TZID=America/Toronto:20200528T160000
DTEND;TZID=America/Toronto:20200528T180000
DTSTAMP:20260421T012007
CREATED:20200424T165548Z
LAST-MODIFIED:20231017T141232Z
UID:8900-1590681600-1590688800@openpeoplenetwork.com
SUMMARY:PitchItSKIPtheLINE Show May28
DESCRIPTION:in partnership\nPRESENT\nMay 28\, 2020\n4:00pm to 6:00pm\nOnline Event\nRegister NowExclusive Closed Pitch Event\nOpen People Network (OPN) has partnered with The City of Toronto and StartupHERE Toronto for our private pitching event\, #PitchItSkiptheLine. \n#PitchItSkiptheLine is an exclusive closed pitch event\, that includes top Angels and Investors. If you are a startup looking for investment\, Skip the Line and pitch to a targeted audience of multiple investors in one room. \nWhat to Expect\n10 startups will deliver an online 7 minute pitch to a room to 5 Angels Leads for a total of 17 minutes. The event will start at 4:00 sharp\, with an opening address from OPN\, the pitches will start at 4:05pm. The pitches will be scheduled every 17 minutes. \nCost and Details\nStartup\n$600 per person + applicable tax \n\n10 Pitches per event\, first come first serve\, tickets must be purchased\, per person on SeatGIANTEvents.ca\nCost of $600\n\nInvestor\n$40 per person + applicable tax \n\nBooklet\, Investor Booklet\, Access to Deep Dive folders\, Dinner\, Beverages and 2 Networking Sessions with Access to Deep Dive folders\n\nGeneral Attendee\n$15 per person + applicable tax \nThe AgendaThe PitchesIRegained\nIRegained is a MedTech company that has developed the MyHandTM System\, a proprietary targeted hand function rehabilitation system. It is a “smart”\, connected mechatronic device\, with clinically effective\, cloud-based proprietary neuroplasticity enhancing hand function training protocols & engaging games. To fulfill a mission of helping 100 million stroke survivors worldwide with hand-function disability live independently once again \nLearn MoreGroundLevel Insights\nGroundLevel Insights (GLI) is a movement science company leveraging mobile consumer location data to power Enlightened Business Decisions. We aggregate and normalize 1000s of sources of anonymous consumer mobile location data in a privacy compliant framework that is then feed through a machine learning AI engine to provide demand side retail consumer insights and analytics \nLearn MoreFettch Technologies\nFettch Technologies Inc. is a dynamic\, forward focused company transforming the possibilities for omni-channel retailers. We are developing the first mobile marketplace which directly connects impatient consumers in cities with local retailers via the Fettch app to satisfy their need for instant gratification. \nLearn MoreDood\nLive streaming platform for modern professionals to broadcast their products\, services\, and experiences to a global audience. \nLearn MoreLevion\nLevion is looking to buy a business from a retiring owner\, grow it 10X+\, and exit the business in 4-7 years. The business we seek to take over must generate at least $2M in net profit. \nLearn MoreThe Advisors Angelo Del Duca\n\nAngel Investor\, Multiple Regions \n\nLearn MoreJeff Champagne\nPresident\, FST Companies \nLearn MoreMichael BadhamAngel Investor Georgian Angel NetworkLearn MoreNolan BeanlandsExecutive Director at Capital Angel NetworkLearn MoreMichelle McCorkellProgram Manager at Golden Triangle Angel Network (GTAN)Learn MoreMira SiroticVice President – Keiretsu Forum Canada\, Speaker\, EntrepreneurLearn MorePrathna RameshManaging Director at Maple Leaf AngelsLearn MoreApplications to pitch are now open!\nContact UsRegister NowLearn MoreSponsorsPitchItSKIPtheLINE Show May 28Online Event0000Days00Hrs00Min00SecRegister Now
URL:https://openpeoplenetwork.com/event/pitchitskiptheline-show-may28/
LOCATION:online
END:VEVENT
END:VCALENDAR